BEGIN:VCALENDAR
VERSION:2.0
PRODID:-//Prince of Wales Parent Advisory Committee - ECPv6.15.20//NONSGML v1.0//EN
CALSCALE:GREGORIAN
METHOD:PUBLISH
X-WR-CALNAME:Prince of Wales Parent Advisory Committee
X-ORIGINAL-URL:https://www.pwpac.org
X-WR-CALDESC:Events for Prince of Wales Parent Advisory Committee
REFRESH-INTERVAL;VALUE=DURATION:PT1H
X-Robots-Tag:noindex
X-PUBLISHED-TTL:PT1H
BEGIN:VTIMEZONE
TZID:America/Los_Angeles
BEGIN:DAYLIGHT
TZOFFSETFROM:-0800
TZOFFSETTO:-0700
TZNAME:PDT
DTSTART:20240310T100000
END:DAYLIGHT
BEGIN:STANDARD
TZOFFSETFROM:-0700
TZOFFSETTO:-0800
TZNAME:PST
DTSTART:20241103T090000
END:STANDARD
BEGIN:DAYLIGHT
TZOFFSETFROM:-0800
TZOFFSETTO:-0700
TZNAME:PDT
DTSTART:20250309T100000
END:DAYLIGHT
BEGIN:STANDARD
TZOFFSETFROM:-0700
TZOFFSETTO:-0800
TZNAME:PST
DTSTART:20251102T090000
END:STANDARD
BEGIN:DAYLIGHT
TZOFFSETFROM:-0800
TZOFFSETTO:-0700
TZNAME:PDT
DTSTART:20260308T100000
END:DAYLIGHT
BEGIN:STANDARD
TZOFFSETFROM:-0700
TZOFFSETTO:-0800
TZNAME:PST
DTSTART:20261101T090000
END:STANDARD
END:VTIMEZONE
BEGIN:VEVENT
DTSTART;TZID=America/Los_Angeles:20251027T190000
DTEND;TZID=America/Los_Angeles:20251027T210000
DTSTAMP:20260420T025433
CREATED:20250911T230501Z
LAST-MODIFIED:20250911T230504Z
UID:127-1761591600-1761598800@www.pwpac.org
SUMMARY:First PAC Meeting 2025
DESCRIPTION:At a Secondary School Parent Advisory Council (PAC) meeting\, both new and returning parents have the chance to become actively involved in supporting the school community. Here are some of the main things they might do: \n\n\nHear from the Principal – Each meeting typically includes a Principal’s update\, where parents get the latest news about school activities\, student achievements\, upcoming events\, policy changes\, or any issues that affect the school community. \n\n\nFundraising discussions – Parents often brainstorm and plan fundraising activities (e.g.\, bake sales\, bottle drives\, silent auctions\, direct donations\, or event-based fundraisers). These efforts help support extracurricular programs\, equipment purchases\, and student initiatives. \n\n\nReview and approve budgets – The PAC manages funds collected through fundraising or government grants (such as the BC Gaming Grant). Parents go over income and expenses\, set funding priorities\, and vote on how money will be allocated to benefit students. \n\n\nPlan and organize events – PAC meetings are a space to plan community-building events such as school dances\, cultural celebrations\, grad activities\, parent education nights\, or teacher appreciation events. \n\n\nShare input and feedback – Parents can bring forward questions\, concerns\, or ideas about school life\, contributing to decisions that shape the student experience. \n\n\nNetwork and connect – For new parents\, PAC meetings are a great way to meet other families\, learn how the school operates\, and feel more connected to the community. Returning parents often mentor newcomers by sharing their experience and insights. \n\n\nOverall\, PAC meetings serve as a collaborative hub where parents\, staff\, and school leadership work together to enhance the educational environment\, support students\, and build a strong school community.
URL:https://www.pwpac.org/event/first-pac-meeting-2025/
LOCATION:Prince of Wales Secondary Library\, 2250 Eddington Drive\, Vancouver\, BC\, British Columbia\, V6L 2E7\, Canada
ATTACH;FMTTYPE=image/jpeg:https://www.pwpac.org/wp-content/uploads/2025/09/PWLibrary.jpg
ORGANIZER;CN="PAC Executive":MAILTO:info@pwpac.org
END:VEVENT
END:VCALENDAR